BEGIN:VCALENDAR
VERSION:2.0
PRODID:-//Morris Area Chamber of Commerce - ECPv6.15.15//NONSGML v1.0//EN
CALSCALE:GREGORIAN
METHOD:PUBLISH
X-ORIGINAL-URL:https://morrismnchamber.org
X-WR-CALDESC:Events for Morris Area Chamber of Commerce
REFRESH-INTERVAL;VALUE=DURATION:PT1H
X-Robots-Tag:noindex
X-PUBLISHED-TTL:PT1H
BEGIN:VTIMEZONE
TZID:America/Chicago
BEGIN:DAYLIGHT
TZOFFSETFROM:-0600
TZOFFSETTO:-0500
TZNAME:CDT
DTSTART:20220313T080000
END:DAYLIGHT
BEGIN:STANDARD
TZOFFSETFROM:-0500
TZOFFSETTO:-0600
TZNAME:CST
DTSTART:20221106T070000
END:STANDARD
BEGIN:DAYLIGHT
TZOFFSETFROM:-0600
TZOFFSETTO:-0500
TZNAME:CDT
DTSTART:20230312T080000
END:DAYLIGHT
BEGIN:STANDARD
TZOFFSETFROM:-0500
TZOFFSETTO:-0600
TZNAME:CST
DTSTART:20231105T070000
END:STANDARD
BEGIN:DAYLIGHT
TZOFFSETFROM:-0600
TZOFFSETTO:-0500
TZNAME:CDT
DTSTART:20240310T080000
END:DAYLIGHT
BEGIN:STANDARD
TZOFFSETFROM:-0500
TZOFFSETTO:-0600
TZNAME:CST
DTSTART:20241103T070000
END:STANDARD
END:VTIMEZONE
BEGIN:VEVENT
DTSTART;TZID=America/Chicago:20231012T140000
DTEND;TZID=America/Chicago:20231012T180000
DTSTAMP:20260421T072902
CREATED:20231004T165243Z
LAST-MODIFIED:20231004T165243Z
UID:6980-1697119200-1697133600@morrismnchamber.org
SUMMARY:UMN Campus Farmers Market
DESCRIPTION:UMN Campus Farmer’s Market Thursday Oct 12 2-6pm. It will be held on the campus mall or in Oyate hall if there is bad weather.
URL:https://morrismnchamber.org/community-event/umn-campus-farmers-market/
LOCATION:University of Minnesota Morris\, 600 E 4th St\, Morris\, MN\, 56267
ORGANIZER;CN="University of Minnesota Morris":MAILTO:dietersm@morris.umn.edu
END:VEVENT
BEGIN:VEVENT
DTSTART;TZID=America/Chicago:20231023T173000
DTEND;TZID=America/Chicago:20231023T193000
DTSTAMP:20260421T072902
CREATED:20231011T155037Z
LAST-MODIFIED:20231011T155037Z
UID:6983-1698082200-1698089400@morrismnchamber.org
SUMMARY:Community Meal
DESCRIPTION:Free Community Meal
URL:https://morrismnchamber.org/community-event/community-meal-4/
LOCATION:Faith Lutheran Church\, 108 W 8th St\, Morris\, 56267
END:VEVENT
BEGIN:VEVENT
DTSTART;TZID=America/Chicago:20231026T080000
DTEND;TZID=America/Chicago:20231026T200000
DTSTAMP:20260421T072902
CREATED:20230816T175611Z
LAST-MODIFIED:20230816T175611Z
UID:6955-1698307200-1698350400@morrismnchamber.org
SUMMARY:Moonlight Madness
DESCRIPTION:
URL:https://morrismnchamber.org/community-event/moonlight-madness-3/
LOCATION:MN
ORGANIZER;CN="Morris Area Chamber of Commerce":MAILTO:morrismnchamber@gmail.com
END:VEVENT
BEGIN:VEVENT
DTSTART;TZID=America/Chicago:20231026T171500
DTEND;TZID=America/Chicago:20231026T183000
DTSTAMP:20260421T072902
CREATED:20230123T165328Z
LAST-MODIFIED:20230123T165328Z
UID:6414-1698340500-1698345000@morrismnchamber.org
SUMMARY:Pomme de Terre Garden Club October Meeting
DESCRIPTION:Pomme de Terre Garden Club will meet Thursday\, October 26\, 2023 at 5:15 pm at the Morris Public Library meeting room. Program will be Rose Varieties and Care\, presented by Mike Thormodson. All are welcome to attend.
URL:https://morrismnchamber.org/community-event/pomme-de-terre-garden-club-october-meeting-2/
LOCATION:Morris Public Library\, 102 E 6th St.\, Morris\, 56267
CATEGORIES:Community Event
ORGANIZER;CN="Pomme de Terre Garden Club (Diane Kill)":MAILTO:killdk@morris.umn.edu
END:VEVENT
BEGIN:VEVENT
DTSTART;TZID=America/Chicago:20231026T171500
DTEND;TZID=America/Chicago:20231026T184500
DTSTAMP:20260421T072902
CREATED:20230417T135138Z
LAST-MODIFIED:20230417T135138Z
UID:6712-1698340500-1698345900@morrismnchamber.org
SUMMARY:Pomme de Terre Garden Club October Meeting
DESCRIPTION:Pomme de Terre Garden Club Meeting\n5:15 p.m.\nMorris Public Library Meeting Room\nProgram: Rose Varieties and Care by Mike Thormodson
URL:https://morrismnchamber.org/community-event/pomme-de-terre-garden-club-october-meeting-3/
LOCATION:Morris Public Library\, 102 E 6th St.\, Morris\, 56267
CATEGORIES:Community Event
ORGANIZER;CN="Pomme de Terre Garden Club (Diane Kill)":MAILTO:killdk@morris.umn.edu
END:VEVENT
BEGIN:VEVENT
DTSTART;TZID=America/Chicago:20231028T140000
DTEND;TZID=America/Chicago:20231028T160000
DTSTAMP:20260421T072902
CREATED:20231018T153613Z
LAST-MODIFIED:20231018T153613Z
UID:6987-1698501600-1698508800@morrismnchamber.org
SUMMARY:Candy of Cougar Circle
DESCRIPTION:
URL:https://morrismnchamber.org/community-event/candy-of-cougar-circle/
LOCATION:University of Minnesota Morris\, 600 E 4th St\, Morris\, MN\, 56267
END:VEVENT
BEGIN:VEVENT
DTSTART;TZID=America/Chicago:20231031T180000
DTEND;TZID=America/Chicago:20231031T210000
DTSTAMP:20260421T072902
CREATED:20231018T153757Z
LAST-MODIFIED:20231018T153757Z
UID:6989-1698775200-1698786000@morrismnchamber.org
SUMMARY:Trick or Can
DESCRIPTION:
URL:https://morrismnchamber.org/community-event/trick-or-can/
LOCATION:University of Minnesota Morris\, 600 E 4th St\, Morris\, MN\, 56267
END:VEVENT
END:VCALENDAR