BEGIN:VCALENDAR
VERSION:2.0
PRODID:-//Morris Area Chamber of Commerce - ECPv6.15.15//NONSGML v1.0//EN
CALSCALE:GREGORIAN
METHOD:PUBLISH
X-WR-CALNAME:Morris Area Chamber of Commerce
X-ORIGINAL-URL:https://morrismnchamber.org
X-WR-CALDESC:Events for Morris Area Chamber of Commerce
REFRESH-INTERVAL;VALUE=DURATION:PT1H
X-Robots-Tag:noindex
X-PUBLISHED-TTL:PT1H
BEGIN:VTIMEZONE
TZID:America/Chicago
BEGIN:DAYLIGHT
TZOFFSETFROM:-0600
TZOFFSETTO:-0500
TZNAME:CDT
DTSTART:20220313T080000
END:DAYLIGHT
BEGIN:STANDARD
TZOFFSETFROM:-0500
TZOFFSETTO:-0600
TZNAME:CST
DTSTART:20221106T070000
END:STANDARD
BEGIN:DAYLIGHT
TZOFFSETFROM:-0600
TZOFFSETTO:-0500
TZNAME:CDT
DTSTART:20230312T080000
END:DAYLIGHT
BEGIN:STANDARD
TZOFFSETFROM:-0500
TZOFFSETTO:-0600
TZNAME:CST
DTSTART:20231105T070000
END:STANDARD
BEGIN:DAYLIGHT
TZOFFSETFROM:-0600
TZOFFSETTO:-0500
TZNAME:CDT
DTSTART:20240310T080000
END:DAYLIGHT
BEGIN:STANDARD
TZOFFSETFROM:-0500
TZOFFSETTO:-0600
TZNAME:CST
DTSTART:20241103T070000
END:STANDARD
END:VTIMEZONE
BEGIN:VEVENT
DTSTART;TZID=America/Chicago:20231116T173000
DTEND;TZID=America/Chicago:20231116T183000
DTSTAMP:20260421T060401
CREATED:20231003T152719Z
LAST-MODIFIED:20231003T152719Z
UID:6976-1700155800-1700159400@morrismnchamber.org
SUMMARY:Lights Parade
DESCRIPTION:
URL:https://morrismnchamber.org/community-event/lights-parade/
LOCATION:Morris Area Chamber of Commerce\, 9 East State Hwy 28\, Morris\, MN\, 56267\, United States
ORGANIZER;CN="Morris Area Chamber of Commerce":MAILTO:morrismnchamber@gmail.com
END:VEVENT
BEGIN:VEVENT
DTSTART;TZID=America/Chicago:20231118T083000
DTEND;TZID=America/Chicago:20231118T140000
DTSTAMP:20260421T060401
CREATED:20231106T145706Z
LAST-MODIFIED:20231106T145706Z
UID:7006-1700296200-1700316000@morrismnchamber.org
SUMMARY:Native American Teach-In
DESCRIPTION:The University of Minnesota Morris will hold a teach-in about the history and impact of Native American boarding schools\, including the ones that operated on our campus site\, on Saturday\, Nov. 18 in Imholte Hall room 109.  \nThe keynote speaker is Sandy White Hawk\, a Sicangu Lakota adoptee from the Rosebud Reservation\, South Dakota. White Hawk is the founder and Director of First Nations Repatriation Institute (FNRI). FNRI’s goal is to create a resource for First Nations people impacted by foster care or adoption to return home\, reconnect\, and reclaim their identity.  The Institute also serves as a resource to enhance the knowledge and skills of practitioners who serve First Nations people. \nOther educational speakers for the event are Gabe Desrosiers\, Anishinaabe; Dorothy Jeffery; and Dennis Jeffy\, Diné \nThe event begins at 8:45 a.m. with a light breakfast\, followed by a blessing and welcome at 9 a.m.\, then first speaker at 9:10 a.m. Following the keynote\, lunch will be served in Oyate Hall. \nFor those unable to attend in person\, the Teach-In will also be available via Zoom.  Registration is required: z.umn.edu/BoardingTeach2023
URL:https://morrismnchamber.org/community-event/native-american-teach-in/
LOCATION:University of Minnesota Morris\, 600 E 4th St\, Morris\, MN\, 56267
CATEGORIES:Community Event
ORGANIZER;CN="University of Minnesota Morris":MAILTO:dietersm@morris.umn.edu
END:VEVENT
BEGIN:VEVENT
DTSTART;TZID=America/Chicago:20231118T123000
DTEND;TZID=America/Chicago:20231118T143000
DTSTAMP:20260421T060401
CREATED:20231106T204019Z
LAST-MODIFIED:20231106T204019Z
UID:7012-1700310600-1700317800@morrismnchamber.org
SUMMARY:Mini Medieval Renaissance Festival
DESCRIPTION:Mini Medieval Renaissance Festival\nSaturday\, Nov. 18th\n12:30-2:30pm\nMorris Public Library
URL:https://morrismnchamber.org/community-event/mini-medieval-renaissance-festival/
LOCATION:Morris Public Library\, 102 E 6th St.\, Morris\, 56267
ATTACH;FMTTYPE=image/png:https://morrismnchamber.org/wp-content/uploads/2023/11/draft-mini-medieval-renaissance-festival-2023.png
END:VEVENT
BEGIN:VEVENT
DTSTART;TZID=America/Chicago:20231130T183000
DTEND;TZID=America/Chicago:20231130T203000
DTSTAMP:20260421T060401
CREATED:20231109T155016Z
LAST-MODIFIED:20231109T155016Z
UID:7015-1701369000-1701376200@morrismnchamber.org
SUMMARY:Dive in Movie at the RFC Rec Pool
DESCRIPTION:The film “Luca” will be played in the pool area. Floaties are welcome\, RSVP as limited space. 320-589-6483 or 320-589-6484\nFree Will Donations\nFood will be available for sale
URL:https://morrismnchamber.org/community-event/dive-in-movie-at-the-rfc-rec-pool/
LOCATION:Regional Fitness Center\, 626 E 2nd St\, Morris\, 56267
ATTACH;FMTTYPE=image/png:https://morrismnchamber.org/wp-content/uploads/2023/11/movie-final-with-food.png
ORGANIZER;CN="Regional Fitness Center":MAILTO:rfc@morris.umn.edu
END:VEVENT
END:VCALENDAR