BEGIN:VCALENDAR
VERSION:2.0
PRODID:-//Morris Area Chamber of Commerce - ECPv6.15.15//NONSGML v1.0//EN
CALSCALE:GREGORIAN
METHOD:PUBLISH
X-WR-CALNAME:Morris Area Chamber of Commerce
X-ORIGINAL-URL:https://morrismnchamber.org
X-WR-CALDESC:Events for Morris Area Chamber of Commerce
REFRESH-INTERVAL;VALUE=DURATION:PT1H
X-Robots-Tag:noindex
X-PUBLISHED-TTL:PT1H
BEGIN:VTIMEZONE
TZID:America/Chicago
BEGIN:DAYLIGHT
TZOFFSETFROM:-0600
TZOFFSETTO:-0500
TZNAME:CDT
DTSTART:20230312T080000
END:DAYLIGHT
BEGIN:STANDARD
TZOFFSETFROM:-0500
TZOFFSETTO:-0600
TZNAME:CST
DTSTART:20231105T070000
END:STANDARD
BEGIN:DAYLIGHT
TZOFFSETFROM:-0600
TZOFFSETTO:-0500
TZNAME:CDT
DTSTART:20240310T080000
END:DAYLIGHT
BEGIN:STANDARD
TZOFFSETFROM:-0500
TZOFFSETTO:-0600
TZNAME:CST
DTSTART:20241103T070000
END:STANDARD
BEGIN:DAYLIGHT
TZOFFSETFROM:-0600
TZOFFSETTO:-0500
TZNAME:CDT
DTSTART:20250309T080000
END:DAYLIGHT
BEGIN:STANDARD
TZOFFSETFROM:-0500
TZOFFSETTO:-0600
TZNAME:CST
DTSTART:20251102T070000
END:STANDARD
END:VTIMEZONE
BEGIN:VEVENT
DTSTART;TZID=America/Chicago:20240601T090000
DTEND;TZID=America/Chicago:20240601T110000
DTSTAMP:20260420T140239
CREATED:20240108T150227Z
LAST-MODIFIED:20240506T183216Z
UID:7204-1717232400-1717239600@morrismnchamber.org
SUMMARY:Pomme de terre Garden Club SPRING PLANT SALE
DESCRIPTION:Spring Plant Sale\nSaturday\, June 1\n9 am – 11am\nMorris American Legion\nPerennials\, Succulents\, Mums\, House Plants and Miscellaneous Garden Items.  Sponsored by the Pomme de Terre Garden Club.  Proceeds used for community projects.
URL:https://morrismnchamber.org/community-event/pomme-de-terre-garden-club-spring-plant-sale-2/
LOCATION:American Legion\, Morris\, 56267
CATEGORIES:Community Event
ATTACH;FMTTYPE=image/jpeg:https://morrismnchamber.org/wp-content/uploads/2024/01/2024-spring-sale.jpg
ORGANIZER;CN="Pomme de Terre Garden Club (Diane Kill)":MAILTO:killdk@morris.umn.edu
END:VEVENT
BEGIN:VEVENT
DTSTART;TZID=America/Chicago:20240606T093000
DTEND;TZID=America/Chicago:20240606T150000
DTSTAMP:20260420T140239
CREATED:20240521T165140Z
LAST-MODIFIED:20240521T165140Z
UID:7624-1717666200-1717686000@morrismnchamber.org
SUMMARY:North Central Soil Conservation Research Laboratory Summer Field Day
DESCRIPTION:The North Central Soil Conservation Research Laboratory (Soils Lab) will hold a tour of on-farm research sites and discussions of winter camelina in collaboration with Greg Fynboh\, Forever Green\, and Cargill on Thursday\, June 6.  \nThe USDA-ARS research team will demonstrate how the work they are doing with LTAR (Long Term Agroecological Research) and oil seed crops is being brought to farmer’s fields.  \nThe day begins with coffee at 9 a.m. and a welcome at 9:30.  Buses will depart for the tour at 10 a.m.  Because of limited access to the research site\, participants should plan to take the bus.\nFollowing the tour\, a complimentary lunch will be provided at the Soils Lab following the field tour.\nAt 1 p.m. \, Forever Green will be hosting a farmer panel\, discussion of markets and camelina agronomics\, and offering an additional field tour in the afternoon.\nParticipants will return to the Soils Lab at approximately 3:30 p.m.  \nTours depart from the Soils Lab at 803 Iowa Ave. Morris\, MN 56267.
URL:https://morrismnchamber.org/community-event/north-central-soil-conservation-research-laboratory-summer-field-day/
LOCATION:North Central Soil Conservation Research Laboratory\, 803 Iowa Avenue\, Morris\, MN
CATEGORIES:Community Event
ATTACH;FMTTYPE=image/jpeg:https://morrismnchamber.org/wp-content/uploads/2024/05/field-day.jpg
ORGANIZER;CN="Barnes-Aastad Association":MAILTO:smadieter@gmail.com
END:VEVENT
BEGIN:VEVENT
DTSTART;TZID=America/Chicago:20240613T150000
DTEND;TZID=America/Chicago:20240613T163000
DTSTAMP:20260420T140239
CREATED:20240104T204351Z
LAST-MODIFIED:20240104T204351Z
UID:7154-1718290800-1718296200@morrismnchamber.org
SUMMARY:Breastfeeding Essentials
DESCRIPTION:SCMC offers a Breastfeeding Essentials class for expectant parents. This comprehensive class is instructed by Lactation Counselor and Dietitian Noelle Syverson and will be done onsite at SCMC in the lower level (Multi-Purpose Room).\nThere is no charge for this class. Please register 24 hrs in advance.\nPlease register by calling 320-589-1313. Contact Noelle Syverson with questions at 320-208-7801. \nObstetrics
URL:https://morrismnchamber.org/community-event/breastfeeding-essentials-4/
LOCATION:Stevens Community Medical Center\, 400 E. 1st St.\, Morris\, 56267
ATTACH;FMTTYPE=image/png:https://morrismnchamber.org/wp-content/uploads/2024/01/breastfeeding-essentials-jun.png
ORGANIZER;CN="SCMC":MAILTO:info@scmcinc.org
END:VEVENT
BEGIN:VEVENT
DTSTART;TZID=America/Chicago:20240629T163000
DTEND;TZID=America/Chicago:20240629T220000
DTSTAMP:20260420T140239
CREATED:20240529T182900Z
LAST-MODIFIED:20240529T182900Z
UID:7642-1719678600-1719698400@morrismnchamber.org
SUMMARY:Conexiones Day
DESCRIPTION:Join us in celebrating our community at the fifth annual Conexiones Day festival!\nJune 29\, 2024\n4:30-10pm\nLee Community Center – 101 Co Rd 22\, Morris\, MN 56267\nLive music • Dance performances • Food • Vendors • Games • Dancing • Taco Contest • Family Activities
URL:https://morrismnchamber.org/community-event/conexiones-day-3/
LOCATION:STEVENS COUNTY FAIRGROUNDS/ LEE COMMUNITY CENTER\, 101 County Road 22\, Morris\, 56267
CATEGORIES:Community Event
ATTACH;FMTTYPE=image/jpeg:https://morrismnchamber.org/wp-content/uploads/2024/05/conexiones-day-2024-eng.jpg
ORGANIZER;CN="Conexiones":MAILTO:autumnc@conexiones-mn.org
END:VEVENT
END:VCALENDAR