BEGIN:VCALENDAR
VERSION:2.0
PRODID:-//Morris Area Chamber of Commerce - ECPv6.15.15//NONSGML v1.0//EN
CALSCALE:GREGORIAN
METHOD:PUBLISH
X-ORIGINAL-URL:https://morrismnchamber.org
X-WR-CALDESC:Events for Morris Area Chamber of Commerce
REFRESH-INTERVAL;VALUE=DURATION:PT1H
X-Robots-Tag:noindex
X-PUBLISHED-TTL:PT1H
BEGIN:VTIMEZONE
TZID:America/Chicago
BEGIN:DAYLIGHT
TZOFFSETFROM:-0600
TZOFFSETTO:-0500
TZNAME:CDT
DTSTART:20230312T080000
END:DAYLIGHT
BEGIN:STANDARD
TZOFFSETFROM:-0500
TZOFFSETTO:-0600
TZNAME:CST
DTSTART:20231105T070000
END:STANDARD
BEGIN:DAYLIGHT
TZOFFSETFROM:-0600
TZOFFSETTO:-0500
TZNAME:CDT
DTSTART:20240310T080000
END:DAYLIGHT
BEGIN:STANDARD
TZOFFSETFROM:-0500
TZOFFSETTO:-0600
TZNAME:CST
DTSTART:20241103T070000
END:STANDARD
BEGIN:DAYLIGHT
TZOFFSETFROM:-0600
TZOFFSETTO:-0500
TZNAME:CDT
DTSTART:20250309T080000
END:DAYLIGHT
BEGIN:STANDARD
TZOFFSETFROM:-0500
TZOFFSETTO:-0600
TZNAME:CST
DTSTART:20251102T070000
END:STANDARD
END:VTIMEZONE
BEGIN:VEVENT
DTSTART;TZID=America/Chicago:20241010T150000
DTEND;TZID=America/Chicago:20241010T180000
DTSTAMP:20260420T081443
CREATED:20240920T200022Z
LAST-MODIFIED:20240920T200022Z
UID:8024-1728572400-1728583200@morrismnchamber.org
SUMMARY:Farmer's Market on Campus
DESCRIPTION:Farmer’s Market on Campus Mall or Oyate Hall if raining.
URL:https://morrismnchamber.org/community-event/farmers-market-on-campus/
LOCATION:University of Minnesota Morris\, 600 E 4th St\, Morris\, MN\, 56267
END:VEVENT
BEGIN:VEVENT
DTSTART;TZID=America/Chicago:20241017T150000
DTEND;TZID=America/Chicago:20241017T163000
DTSTAMP:20260420T081443
CREATED:20240104T204327Z
LAST-MODIFIED:20240104T204327Z
UID:7160-1729177200-1729182600@morrismnchamber.org
SUMMARY:Breastfeeding Essentials
DESCRIPTION:SCMC offers a Breastfeeding Essentials class for expectant parents. This comprehensive class is instructed by Lactation Counselor and Dietitian Noelle Syverson and will be done onsite at SCMC in the lower level (Multi-Purpose Room).\nThere is no charge for this class. Please register 24 hrs in advance.\nPlease register by calling 320-589-1313. Contact Noelle Syverson with questions at 320-208-7801. \nObstetrics
URL:https://morrismnchamber.org/community-event/breastfeeding-essentials-3/
LOCATION:Stevens Community Medical Center\, 400 E. 1st St.\, Morris\, 56267
ATTACH;FMTTYPE=image/png:https://morrismnchamber.org/wp-content/uploads/2024/01/breastfeeding-essentials-oct.png
ORGANIZER;CN="SCMC":MAILTO:info@scmcinc.org
END:VEVENT
BEGIN:VEVENT
DTSTART;TZID=America/Chicago:20241024T080000
DTEND;TZID=America/Chicago:20241024T190000
DTSTAMP:20260420T081443
CREATED:20240821T143826Z
LAST-MODIFIED:20240821T143826Z
UID:7890-1729756800-1729796400@morrismnchamber.org
SUMMARY:Moonlight Madness
DESCRIPTION:
URL:https://morrismnchamber.org/community-event/moonlight-madness-4/
LOCATION:MN
ORGANIZER;CN="Morris Area Chamber of Commerce":MAILTO:morrismnchamber@gmail.com
END:VEVENT
BEGIN:VEVENT
DTSTART;TZID=America/Chicago:20241024T171500
DTEND;TZID=America/Chicago:20241024T190000
DTSTAMP:20260420T081443
CREATED:20240108T150134Z
LAST-MODIFIED:20240108T150134Z
UID:7224-1729790100-1729796400@morrismnchamber.org
SUMMARY:Pomme de Terre Garden Club October Meeting
DESCRIPTION:Pomme de Terre Garden Club Meeting on Thursday\, October 24 at 5:15 pm at the Morris Public Library.
URL:https://morrismnchamber.org/community-event/pomme-de-terre-garden-club-october-meeting-4/
LOCATION:Morris Public Library\, 102 E 6th St.\, Morris\, 56267
CATEGORIES:Community Event
ORGANIZER;CN="Pomme de Terre Garden Club (Diane Kill)":MAILTO:killdk@morris.umn.edu
END:VEVENT
BEGIN:VEVENT
DTSTART;TZID=America/Chicago:20241026T083000
DTEND;TZID=America/Chicago:20241026T143000
DTSTAMP:20260420T081443
CREATED:20241008T142136Z
LAST-MODIFIED:20241008T142136Z
UID:8095-1729931400-1729953000@morrismnchamber.org
SUMMARY:Morris Tree Steward Training
DESCRIPTION:The City of Morris is seeking volunteers to become Tree Stewards to occasionally help plant trees and assist with mulching\, winter protection\, simple pruning\, etc. \nA free training session will be held Saturday\, October 26th\, from 8:30am to 2:30pm at the Morris Community Center at 603 Oregon Avenue.  Lunch will be provided. \nEveryone is welcome to attend.  It will be fun and informative for anyone who wants to learn about trees and how to care for them.  Attendees don’t need to become Tree Stewards. \nThe session will be led by staff from the Department of Forest Resources at the University’s St. Paul campus. \nTo register for this free event\, please contact Morris City Hall at 320-589-3141 or Sue Granger at 320-589-3846 or gemres@info-link.net.
URL:https://morrismnchamber.org/community-event/morris-tree-steward-training/
LOCATION:Morris Community Center\, 603 Oregon Avenue\, Morris\, 56267
CATEGORIES:Community Event
ATTACH;FMTTYPE=image/jpeg:https://morrismnchamber.org/wp-content/uploads/2024/10/morristreestewardflyer2024-150.jpg
END:VEVENT
BEGIN:VEVENT
DTSTART;TZID=America/Chicago:20241026T140000
DTEND;TZID=America/Chicago:20241026T160000
DTSTAMP:20260420T081443
CREATED:20241010T174342Z
LAST-MODIFIED:20241010T174342Z
UID:8124-1729951200-1729958400@morrismnchamber.org
SUMMARY:Candy on Cougar Circle
DESCRIPTION:🍭 🎃 Each year\, families are invited to walk or drive around Cougar Circle for Trick or Treating and participate in family-friendly activities along the way! Please bring your families to this event. UMN Morris students will be volunteering to hand out candy and collect donations for the Stevens County Food Shelf.  Bring some non-perishable food to donate!
URL:https://morrismnchamber.org/community-event/candy-on-cougar-circle/
LOCATION:University of Minnesota Morris\, 600 E 4th St\, Morris\, MN\, 56267
END:VEVENT
BEGIN:VEVENT
DTSTART;TZID=America/Chicago:20241031T173000
DTEND;TZID=America/Chicago:20241031T203000
DTSTAMP:20260420T081443
CREATED:20241010T174558Z
LAST-MODIFIED:20241010T174558Z
UID:8126-1730395800-1730406600@morrismnchamber.org
SUMMARY:Trick of Can
DESCRIPTION:👻🫙 On Halloween night\, UMN Morris students will be coming around Morris going door to door collecting non-perishable food items and personal hygiene supplies to give to the Stevens County Food Shelf.  This is one of our most popular events and hope you will all consider donating if the students stop by your house.
URL:https://morrismnchamber.org/community-event/trick-of-can/
LOCATION:University of Minnesota Morris\, 600 E 4th St\, Morris\, MN\, 56267
END:VEVENT
END:VCALENDAR