BEGIN:VCALENDAR
VERSION:2.0
PRODID:-//Morris Area Chamber of Commerce - ECPv6.15.15//NONSGML v1.0//EN
CALSCALE:GREGORIAN
METHOD:PUBLISH
X-ORIGINAL-URL:https://morrismnchamber.org
X-WR-CALDESC:Events for Morris Area Chamber of Commerce
REFRESH-INTERVAL;VALUE=DURATION:PT1H
X-Robots-Tag:noindex
X-PUBLISHED-TTL:PT1H
BEGIN:VTIMEZONE
TZID:America/Chicago
BEGIN:DAYLIGHT
TZOFFSETFROM:-0600
TZOFFSETTO:-0500
TZNAME:CDT
DTSTART:20230312T080000
END:DAYLIGHT
BEGIN:STANDARD
TZOFFSETFROM:-0500
TZOFFSETTO:-0600
TZNAME:CST
DTSTART:20231105T070000
END:STANDARD
BEGIN:DAYLIGHT
TZOFFSETFROM:-0600
TZOFFSETTO:-0500
TZNAME:CDT
DTSTART:20240310T080000
END:DAYLIGHT
BEGIN:STANDARD
TZOFFSETFROM:-0500
TZOFFSETTO:-0600
TZNAME:CST
DTSTART:20241103T070000
END:STANDARD
BEGIN:DAYLIGHT
TZOFFSETFROM:-0600
TZOFFSETTO:-0500
TZNAME:CDT
DTSTART:20250309T080000
END:DAYLIGHT
BEGIN:STANDARD
TZOFFSETFROM:-0500
TZOFFSETTO:-0600
TZNAME:CST
DTSTART:20251102T070000
END:STANDARD
END:VTIMEZONE
BEGIN:VEVENT
DTSTART;TZID=America/Chicago:20241109T190000
DTEND;TZID=America/Chicago:20241109T203000
DTSTAMP:20260420T065401
CREATED:20241104T212944Z
LAST-MODIFIED:20241104T212944Z
UID:8214-1731178800-1731184200@morrismnchamber.org
SUMMARY:Music at the Center of the River
DESCRIPTION:The UMN Morris Choirs present “Music at the Center of the River” in collaboration with guests artists Mark Rubin\, David Buchbinder\, and Michael Ward-Bergeman. This project combines original and traditional music that dives into the sounds of the Mississippi River. The music has elements of New Orleans brass band and Delta Blues. Free admission.
URL:https://morrismnchamber.org/community-event/music-at-the-center-of-the-river/
LOCATION:University of Minnesota Morris\, 600 E 4th St\, Morris\, MN\, 56267
CATEGORIES:Community Event
ATTACH;FMTTYPE=image/png:https://morrismnchamber.org/wp-content/uploads/2024/11/music-at-the-center-of-the-river-1.png
ORGANIZER;CN="University of Minnesota Morris":MAILTO:dietersm@morris.umn.edu
END:VEVENT
BEGIN:VEVENT
DTSTART;TZID=America/Chicago:20241116T123000
DTEND;TZID=America/Chicago:20241116T143000
DTSTAMP:20260420T065401
CREATED:20241023T160351Z
LAST-MODIFIED:20241023T160351Z
UID:8164-1731760200-1731767400@morrismnchamber.org
SUMMARY:Mini Renaissance Festival
DESCRIPTION:Mini Renaissance Festival\nSaturday\, Nov. 16th\n12:30-2:30p\nMorris Public Library\nFree and open to all!
URL:https://morrismnchamber.org/community-event/mini-renaissance-festival/
LOCATION:Morris Public Library\, 102 E 6th St.\, Morris\, 56267
ATTACH;FMTTYPE=image/jpeg:https://morrismnchamber.org/wp-content/uploads/2024/10/draft-1-mini-ren-2024-page-001.jpg
END:VEVENT
BEGIN:VEVENT
DTSTART;TZID=America/Chicago:20241116T170000
DTEND;TZID=America/Chicago:20241116T190000
DTSTAMP:20260420T065401
CREATED:20241008T194856Z
LAST-MODIFIED:20241008T194910Z
UID:8106-1731776400-1731783600@morrismnchamber.org
SUMMARY:Respect For Life Banquet
DESCRIPTION:Respect For Life Banquet will be held at the old #1 Saturday\, November 16th at 5 p.m.
URL:https://morrismnchamber.org/community-event/respect-for-life-banquet/
LOCATION:Old No.1 Bar &amp; Grill\, 412 Atlantic Ave.\, Morris\, 56267
END:VEVENT
BEGIN:VEVENT
DTSTART;TZID=America/Chicago:20241118T173000
DTEND;TZID=America/Chicago:20241118T193000
DTSTAMP:20260420T065401
CREATED:20240917T152524Z
LAST-MODIFIED:20241023T172610Z
UID:8003-1731951000-1731958200@morrismnchamber.org
SUMMARY:Morris Community Meal
DESCRIPTION:Sharing food is a key way to build community. Morris Community Meals are free meals served to anyone who wants to come. Regional businesses and organizations fund the meal\, and students\, faculty\, staff\, and community members cook together and share a meal. Morris Community Meal uses local foods and sustainable practices as much as possible\, and strives to share food from a variety of cultures. Gluten-free and vegan meals are always available. Anyone can get involved as a co-sponsor\, volunteer\, or attendee!
URL:https://morrismnchamber.org/community-event/morris-community-meal/
LOCATION:Faith Lutheran Church\, 108 W 8th St\, Morris\, 56267
END:VEVENT
BEGIN:VEVENT
DTSTART;TZID=America/Chicago:20241121T173000
DTEND;TZID=America/Chicago:20241121T183000
DTSTAMP:20260420T065401
CREATED:20240821T191127Z
LAST-MODIFIED:20240821T191127Z
UID:7892-1732210200-1732213800@morrismnchamber.org
SUMMARY:Parade of Lights
DESCRIPTION:
URL:https://morrismnchamber.org/community-event/parade-of-lights-3/
LOCATION:MN
ORGANIZER;CN="Morris Area Chamber of Commerce":MAILTO:morrismnchamber@gmail.com
END:VEVENT
BEGIN:VEVENT
DTSTART;TZID=America/Chicago:20241124T110000
DTEND;TZID=America/Chicago:20241124T130000
DTSTAMP:20260420T065401
CREATED:20241031T160302Z
LAST-MODIFIED:20241031T160302Z
UID:8194-1732446000-1732453200@morrismnchamber.org
SUMMARY:Kongsvinger Lutheran Church 2024 Fall Festival
DESCRIPTION:Kongsvinger Lutheran Church 2024 Fall Festival set for Nov. 24th \nKongsvinger Lutheran Church of rural Donnelly is hosting its annual Fall Festival on Sunday\, November 24\, 2024 from 11:00 a.m.-1:00 p.m. \nThis year’s menu includes a freshly grilled pork chop\, baked potato\, candied carrots\, salads\, desserts and more. Cost is $15; children 10 and under are $7.00. \nThe ever popular bake sale featuring Kongsvinger’s own homemade lefse\, holiday items and Scandinavian goodies are available just in time for your Thanksgiving holiday planning. \nEnter for your chance to win during the annual raffle for cash prizes of $150\, $100 and $50 are up for grabs\, as well as gift cards\, quilts\, gift baskets and much more! \nAll are welcome to enjoy! The historic Kongsvinger Church is located three miles North of Donnelly on County Road 9.
URL:https://morrismnchamber.org/community-event/kongsvinger-lutheran-church-2024-fall-festival/
LOCATION:Kongsvinger Lutheran Church\, Herman\, Minnesota
ATTACH;FMTTYPE=application/pdf:https://morrismnchamber.org/wp-content/uploads/2024/10/2024-Kongsvinger-Fall-Festival-poster.pdf
END:VEVENT
END:VCALENDAR