BEGIN:VCALENDAR
VERSION:2.0
PRODID:-//Morris Area Chamber of Commerce - ECPv6.15.15//NONSGML v1.0//EN
CALSCALE:GREGORIAN
METHOD:PUBLISH
X-WR-CALNAME:Morris Area Chamber of Commerce
X-ORIGINAL-URL:https://morrismnchamber.org
X-WR-CALDESC:Events for Morris Area Chamber of Commerce
REFRESH-INTERVAL;VALUE=DURATION:PT1H
X-Robots-Tag:noindex
X-PUBLISHED-TTL:PT1H
BEGIN:VTIMEZONE
TZID:America/Chicago
BEGIN:DAYLIGHT
TZOFFSETFROM:-0600
TZOFFSETTO:-0500
TZNAME:CDT
DTSTART:20240310T080000
END:DAYLIGHT
BEGIN:STANDARD
TZOFFSETFROM:-0500
TZOFFSETTO:-0600
TZNAME:CST
DTSTART:20241103T070000
END:STANDARD
BEGIN:DAYLIGHT
TZOFFSETFROM:-0600
TZOFFSETTO:-0500
TZNAME:CDT
DTSTART:20250309T080000
END:DAYLIGHT
BEGIN:STANDARD
TZOFFSETFROM:-0500
TZOFFSETTO:-0600
TZNAME:CST
DTSTART:20251102T070000
END:STANDARD
BEGIN:DAYLIGHT
TZOFFSETFROM:-0600
TZOFFSETTO:-0500
TZNAME:CDT
DTSTART:20260308T080000
END:DAYLIGHT
BEGIN:STANDARD
TZOFFSETFROM:-0500
TZOFFSETTO:-0600
TZNAME:CST
DTSTART:20261101T070000
END:STANDARD
END:VTIMEZONE
BEGIN:VEVENT
DTSTART;TZID=America/Chicago:20250104T130000
DTEND;TZID=America/Chicago:20250104T150000
DTSTAMP:20260420T040322
CREATED:20241121T185216Z
LAST-MODIFIED:20241121T190527Z
UID:8270-1735995600-1736002800@morrismnchamber.org
SUMMARY:Youth Ice Fishing Tournament
DESCRIPTION:Youth Ice Fishing Tournament\nAge 15 and younger\nLimit 100 participants\nPre-register is free\nDay of registration is $5
URL:https://morrismnchamber.org/community-event/youth-ice-fishing-tournament/
LOCATION:Pomme de Terre Lake Access\, Morris\, MN\, 56267
ATTACH;FMTTYPE=image/png:https://morrismnchamber.org/wp-content/uploads/2024/11/untitled-design-14-e1732215912820.png
END:VEVENT
BEGIN:VEVENT
DTSTART;TZID=America/Chicago:20250111T130000
DTEND;TZID=America/Chicago:20250111T150000
DTSTAMP:20260420T040322
CREATED:20241227T153801Z
LAST-MODIFIED:20241227T153801Z
UID:8385-1736600400-1736607600@morrismnchamber.org
SUMMARY:Friends of the Morris Public Library Puzzle Contest Fundraiser
DESCRIPTION:The Friends of the Morris Public Library are doing a puzzle contest fundraiser! Get together a team of up to 4 friends to try to finish the puzzle the quickest (first team to finish wins a prize)! $20/team\, and a limit of 8 teams. Pre-register at the Morris Public Library or email naomiskulan@gmail.com. All proceeds will go to support library events\, programming\, and offerings through the Friends of the Morris Public Library.
URL:https://morrismnchamber.org/community-event/friends-of-the-morris-public-library-puzzle-contest-fundraiser/
LOCATION:Morris Public Library\, 102 E 6th St.\, Morris\, 56267
CATEGORIES:Community Event
ATTACH;FMTTYPE=image/jpeg:https://morrismnchamber.org/wp-content/uploads/2024/12/puzzle-contest.jpg
END:VEVENT
BEGIN:VEVENT
DTSTART;TZID=America/Chicago:20250117T170000
DTEND;TZID=America/Chicago:20250118T230000
DTSTAMP:20260420T040322
CREATED:20250108T202818Z
LAST-MODIFIED:20250108T202818Z
UID:8443-1737133200-1737241200@morrismnchamber.org
SUMMARY:POOL TOURNAMENT
DESCRIPTION:The Hudson Inn is hosting the Tom Mahoney Memorial Three Man Pool tournament
URL:https://morrismnchamber.org/community-event/pool-tournament-2/
LOCATION:The Hudson Inn\, 200 HWY 28 East\, Morris\, 56267
ATTACH;FMTTYPE=image/jpeg:https://morrismnchamber.org/wp-content/uploads/2025/01/screenshot-2025-01-08-at-12136pm.jpeg
ORGANIZER;CN="The Hudson Inn":MAILTO:events@thehudsoninnmorris.com
END:VEVENT
BEGIN:VEVENT
DTSTART;TZID=America/Chicago:20250117T170000
DTEND;TZID=America/Chicago:20250118T233000
DTSTAMP:20260420T040322
CREATED:20250108T191205Z
LAST-MODIFIED:20250108T191205Z
UID:8434-1737133200-1737243000@morrismnchamber.org
SUMMARY:Pool Tournament
DESCRIPTION:Tom Mahoney memorial three man pool tournament hosting in The Hudson Inn hotel
URL:https://morrismnchamber.org/community-event/pool-tournament/
LOCATION:The Hudson Inn\, 200 HWY 28 East\, Morris\, 56267
END:VEVENT
BEGIN:VEVENT
DTSTART;TZID=America/Chicago:20250119T150000
DTEND;TZID=America/Chicago:20250126T170000
DTSTAMP:20260420T040322
CREATED:20250121T164930Z
LAST-MODIFIED:20250121T164930Z
UID:8488-1737298800-1737910800@morrismnchamber.org
SUMMARY:Mid winter special at The Hudson Inn
DESCRIPTION:The Hudson Inn has a Mid Winter Special\nBook your room for $90 per night!!\nJanuary 19th-26th. \nIt include 6 swim passes\n$5 drink ticket\nFree pitcher of pop with a large pizza purchase
URL:https://morrismnchamber.org/community-event/mid-winter-special-at-the-hudson-inn/
LOCATION:The Hudson Inn\, 200 HWY 28 East\, Morris\, 56267
ATTACH;FMTTYPE=image/jpeg:https://morrismnchamber.org/wp-content/uploads/2025/01/img-9763.jpg
END:VEVENT
BEGIN:VEVENT
DTSTART;TZID=America/Chicago:20250125T140000
DTEND;TZID=America/Chicago:20250125T170000
DTSTAMP:20260420T040322
CREATED:20250107T155328Z
LAST-MODIFIED:20250107T155328Z
UID:8426-1737813600-1737824400@morrismnchamber.org
SUMMARY:MLK Day
DESCRIPTION:
URL:https://morrismnchamber.org/community-event/mlk-day/
LOCATION:Morris Community Center\, 603 Oregon Avenue\, Morris\, 56267
ATTACH;FMTTYPE=image/jpeg:https://morrismnchamber.org/wp-content/uploads/2025/01/mlk-day-2025.jpg
ORGANIZER;CN="University of Minnesota Morris":MAILTO:dietersm@morris.umn.edu
END:VEVENT
END:VCALENDAR