BEGIN:VCALENDAR
VERSION:2.0
PRODID:-//Morris Area Chamber of Commerce - ECPv6.15.15//NONSGML v1.0//EN
CALSCALE:GREGORIAN
METHOD:PUBLISH
X-WR-CALNAME:Morris Area Chamber of Commerce
X-ORIGINAL-URL:https://morrismnchamber.org
X-WR-CALDESC:Events for Morris Area Chamber of Commerce
REFRESH-INTERVAL;VALUE=DURATION:PT1H
X-Robots-Tag:noindex
X-PUBLISHED-TTL:PT1H
BEGIN:VTIMEZONE
TZID:America/Chicago
BEGIN:DAYLIGHT
TZOFFSETFROM:-0600
TZOFFSETTO:-0500
TZNAME:CDT
DTSTART:20240310T080000
END:DAYLIGHT
BEGIN:STANDARD
TZOFFSETFROM:-0500
TZOFFSETTO:-0600
TZNAME:CST
DTSTART:20241103T070000
END:STANDARD
BEGIN:DAYLIGHT
TZOFFSETFROM:-0600
TZOFFSETTO:-0500
TZNAME:CDT
DTSTART:20250309T080000
END:DAYLIGHT
BEGIN:STANDARD
TZOFFSETFROM:-0500
TZOFFSETTO:-0600
TZNAME:CST
DTSTART:20251102T070000
END:STANDARD
BEGIN:DAYLIGHT
TZOFFSETFROM:-0600
TZOFFSETTO:-0500
TZNAME:CDT
DTSTART:20260308T080000
END:DAYLIGHT
BEGIN:STANDARD
TZOFFSETFROM:-0500
TZOFFSETTO:-0600
TZNAME:CST
DTSTART:20261101T070000
END:STANDARD
END:VTIMEZONE
BEGIN:VEVENT
DTSTART;TZID=America/Chicago:20250405T080000
DTEND;TZID=America/Chicago:20250405T170000
DTSTAMP:20260419T232842
CREATED:20250310T151636Z
LAST-MODIFIED:20250310T151839Z
UID:8720-1743840000-1743872400@morrismnchamber.org
SUMMARY:Shower Love\, Shop Local Retail Event
DESCRIPTION:Come shop these retailers for great spring sales and a chance to win Chamber Cash.
URL:https://morrismnchamber.org/community-event/shower-love-shop-local-retail-event/
LOCATION:MN
ATTACH;FMTTYPE=image/png:https://morrismnchamber.org/wp-content/uploads/2025/03/5-april-2025.png
END:VEVENT
BEGIN:VEVENT
DTSTART;TZID=America/Chicago:20250405T150000
DTEND;TZID=America/Chicago:20250405T170000
DTSTAMP:20260419T232842
CREATED:20250402T170859Z
LAST-MODIFIED:20250402T170859Z
UID:8832-1743865200-1743872400@morrismnchamber.org
SUMMARY:Spring Retail
DESCRIPTION:Have a meal at The Hudson Inn between 3:00  – 5:00 and enjoy your access to open swim. Only on April 5th
URL:https://morrismnchamber.org/community-event/spring-retail/
LOCATION:The Hudson Inn\, 200 HWY 28 East\, Morris\, 56267
ATTACH;FMTTYPE=image/png:https://morrismnchamber.org/wp-content/uploads/2025/04/spring-retail.png
ORGANIZER;CN="The Hudson Inn":MAILTO:events@thehudsoninnmorris.com
END:VEVENT
BEGIN:VEVENT
DTSTART;TZID=America/Chicago:20250405T190000
DTEND;TZID=America/Chicago:20250405T210000
DTSTAMP:20260419T232842
CREATED:20250320T152203Z
LAST-MODIFIED:20250320T152203Z
UID:8761-1743879600-1743886800@morrismnchamber.org
SUMMARY:Central Lakes Symphony Orchestra Concert
DESCRIPTION:Experience an unforgettable evening of orchestral mastery at the Central Lakes Symphony Orchestra’s “Power of the Orchestra” concert on Saturday\, April 5\, 2025 at 7 p.m.  Held at the AAHS Performing Arts Center\, this event promises to dazzle audiences with a powerful lineup featuring two iconic compositions. \nThe concert will showcase Prokofiev’s Piano Concerto No. 1\, featuring the exceptional talent of Brayden Drevlow on piano\, and Saint-Saens’ Symphony No. 3 “Organ”\, a grand and majestic piece renowned for its breathtaking use of the organ within the orchestral setting.
URL:https://morrismnchamber.org/community-event/central-lakes-symphony-orchestra-concert-2/
LOCATION:Alexandria Area High School Performing Arts Center\, 4300 Pioneer Dr\, Alexandria\, 56308
CATEGORIES:Community Event
END:VEVENT
BEGIN:VEVENT
DTSTART;TZID=America/Chicago:20250408T080000
DTEND;TZID=America/Chicago:20250408T120000
DTSTAMP:20260419T232842
CREATED:20250310T151425Z
LAST-MODIFIED:20250310T151425Z
UID:8716-1744099200-1744113600@morrismnchamber.org
SUMMARY:Growing Morris Leadership Class
DESCRIPTION:
URL:https://morrismnchamber.org/community-event/growing-morris-leadership-class-5/
LOCATION:MN
END:VEVENT
BEGIN:VEVENT
DTSTART;TZID=America/Chicago:20250418T150000
DTEND;TZID=America/Chicago:20250421T110000
DTSTAMP:20260419T232842
CREATED:20250402T171051Z
LAST-MODIFIED:20250402T171051Z
UID:8837-1744988400-1745233200@morrismnchamber.org
SUMMARY:The Hudson Inn Easter Stay and play special
DESCRIPTION:Book your double queen room $110 per night without tax from April 18th – Monday 21st. It includes:\n*One Drink Ticket per room ($5)\n*One 12″ Pizza single topping
URL:https://morrismnchamber.org/community-event/the-hudson-inn-easter-stay-and-play-special/
LOCATION:The Hudson Inn\, 200 HWY 28 East\, Morris\, 56267
ORGANIZER;CN="The Hudson Inn":MAILTO:events@thehudsoninnmorris.com
END:VEVENT
BEGIN:VEVENT
DTSTART;TZID=America/Chicago:20250418T150000
DTEND;TZID=America/Chicago:20250421T110000
DTSTAMP:20260419T232842
CREATED:20250404T151152Z
LAST-MODIFIED:20250404T151152Z
UID:8840-1744988400-1745233200@morrismnchamber.org
SUMMARY:The Hudson Inn Easter Stay and play special
DESCRIPTION:Book your double queen room from April 18 – April 21 for $110 per night without tax\nIncludes:\n1 $5 drink ticket per room\n1 12″ pizza with single topping
URL:https://morrismnchamber.org/community-event/the-hudson-inn-easter-stay-and-play-special-2/
LOCATION:The Hudson Inn\, 200 HWY 28 East\, Morris\, 56267
ORGANIZER;CN="The Hudson Inn":MAILTO:events@thehudsoninnmorris.com
END:VEVENT
BEGIN:VEVENT
DTSTART;TZID=America/Chicago:20250422T080000
DTEND;TZID=America/Chicago:20250422T120000
DTSTAMP:20260419T232842
CREATED:20250310T151453Z
LAST-MODIFIED:20250310T151453Z
UID:8718-1745308800-1745323200@morrismnchamber.org
SUMMARY:Growing Morris Leadership Class
DESCRIPTION:
URL:https://morrismnchamber.org/community-event/growing-morris-leadership-class-6/
LOCATION:MN
END:VEVENT
BEGIN:VEVENT
DTSTART;TZID=America/Chicago:20250427T130000
DTEND;TZID=America/Chicago:20250427T160000
DTSTAMP:20260419T232842
CREATED:20250404T151347Z
LAST-MODIFIED:20250424T182826Z
UID:8863-1745758800-1745769600@morrismnchamber.org
SUMMARY:Park Clean Up
DESCRIPTION:Giving back to the community continues! Join the Office of Community Engagement as we visit 5 Morris City Parks to pick up trash and wipe down picnic tables where needed. The event will take place on Sunday\, April 27th from 1-4 PM.  \nWe will spend approximately 20-30 mins (or less in needs are minimal) at each park. We will visit them starting with Knjenstad on West 4th St\, second stop is Thedin off the Lyndale Ave Alley\, third stop is Wells located between Nevada Ave and Pacific Ave\, fourth stop is Green River located Elm St and Green River Rd\, and last stop East Side on East 7th St. \nThis project is outdoors and will be pushed back to first weekend in May (exact date TBD) if inclement weather occurs. Please dress for the weather that day.
URL:https://morrismnchamber.org/community-event/8863/
LOCATION:University of Minnesota Morris\, 600 E 4th St\, Morris\, MN\, 56267
ATTACH;FMTTYPE=image/jpeg:https://morrismnchamber.org/wp-content/uploads/2025/04/earth-day-spring-2025.jpg
END:VEVENT
BEGIN:VEVENT
DTSTART;TZID=America/Chicago:20250428T173000
DTEND;TZID=America/Chicago:20250428T190000
DTSTAMP:20260419T232842
CREATED:20250312T151034Z
LAST-MODIFIED:20250312T151034Z
UID:8731-1745861400-1745866800@morrismnchamber.org
SUMMARY:Bread 'N Bowls
DESCRIPTION:Bread ‘N Bowls is right around the corner!  One of our most popular events!  Save the date:   \nMonday\, April 28th from 5:30 to 7p\nat the Morris Area Elementary School cafeteria \n Bread ‘N Bowls is an awareness-raising event focused on combating violence and poverty.  UMM’s office of Community Engagement and Morris Area art students and local artists donate ceramic bowls\, and area organizations and businesses provide soup\, bread\, and desserts.  \nA suggested donation of $15 to Someplace Safe\, the Stevens County Food Shelf\, or the Prairie Renaissance Cultural Alliance will get participants a meal and handmade bowl.   \nWe also are in need of volunteers for this fun\, highly attended event.  Sign up link here:  https://z.umn.edu/BreadnBowls \nWe hope to see you at our last event of the year!
URL:https://morrismnchamber.org/community-event/bread-n-bowls/
LOCATION:Morris Area Elementary\, 151 S Columbia Ave\, Morris\, 56267
END:VEVENT
END:VCALENDAR