BEGIN:VCALENDAR
VERSION:2.0
PRODID:-//Morris Area Chamber of Commerce - ECPv6.15.15//NONSGML v1.0//EN
CALSCALE:GREGORIAN
METHOD:PUBLISH
X-WR-CALNAME:Morris Area Chamber of Commerce
X-ORIGINAL-URL:https://morrismnchamber.org
X-WR-CALDESC:Events for Morris Area Chamber of Commerce
REFRESH-INTERVAL;VALUE=DURATION:PT1H
X-Robots-Tag:noindex
X-PUBLISHED-TTL:PT1H
BEGIN:VTIMEZONE
TZID:America/Chicago
BEGIN:DAYLIGHT
TZOFFSETFROM:-0600
TZOFFSETTO:-0500
TZNAME:CDT
DTSTART:20240310T080000
END:DAYLIGHT
BEGIN:STANDARD
TZOFFSETFROM:-0500
TZOFFSETTO:-0600
TZNAME:CST
DTSTART:20241103T070000
END:STANDARD
BEGIN:DAYLIGHT
TZOFFSETFROM:-0600
TZOFFSETTO:-0500
TZNAME:CDT
DTSTART:20250309T080000
END:DAYLIGHT
BEGIN:STANDARD
TZOFFSETFROM:-0500
TZOFFSETTO:-0600
TZNAME:CST
DTSTART:20251102T070000
END:STANDARD
BEGIN:DAYLIGHT
TZOFFSETFROM:-0600
TZOFFSETTO:-0500
TZNAME:CDT
DTSTART:20260308T080000
END:DAYLIGHT
BEGIN:STANDARD
TZOFFSETFROM:-0500
TZOFFSETTO:-0600
TZNAME:CST
DTSTART:20261101T070000
END:STANDARD
END:VTIMEZONE
BEGIN:VEVENT
DTSTART;TZID=America/Chicago:20250620T180000
DTEND;TZID=America/Chicago:20250620T200000
DTSTAMP:20260419T202227
CREATED:20250320T143350Z
LAST-MODIFIED:20250515T172129Z
UID:8759-1750442400-1750449600@morrismnchamber.org
SUMMARY:Music in the Park
DESCRIPTION:Come to listen to The Cheese Bots in East Side Park. Bring your lawn chair or a blanket.
URL:https://morrismnchamber.org/community-event/music-in-the-park/
LOCATION:East Side Park\, Morris\, 52488 180TH STREET\, MORRIS\, MN\, 56267\, United States
ATTACH;FMTTYPE=image/png:https://morrismnchamber.org/wp-content/uploads/2025/03/06132025-4-1.png
ORGANIZER;CN="Morris Area Chamber of Commerce":MAILTO:morrismnchamber@gmail.com
END:VEVENT
BEGIN:VEVENT
DTSTART;TZID=America/Chicago:20250620T193000
DTEND;TZID=America/Chicago:20250620T210000
DTSTAMP:20260419T202227
CREATED:20250611T194816Z
LAST-MODIFIED:20250611T194816Z
UID:9122-1750447800-1750453200@morrismnchamber.org
SUMMARY:Vikings Legends at The Hudson Inn
DESCRIPTION:MEET AND GREET\nFriday Night  June 20 \nVikings Legends at\nThe Hudson Inn \n7:30pm\nMorris MN \nMerchandise for sale!\nCome out and Support!
URL:https://morrismnchamber.org/community-event/vikings-legends-at-the-hudson-inn/
LOCATION:The Hudson Inn\, 200 HWY 28 East\, Morris\, 56267
ATTACH;FMTTYPE=image/jpeg:https://morrismnchamber.org/wp-content/uploads/2025/06/vikings-fb-camp-week-3-25-k-taffe-page-001-1.jpg
ORGANIZER;CN="The Hudson Inn":MAILTO:events@thehudsoninnmorris.com
END:VEVENT
BEGIN:VEVENT
DTSTART;TZID=America/Chicago:20250621T140000
DTEND;TZID=America/Chicago:20250621T170000
DTSTAMP:20260419T202227
CREATED:20250610T142835Z
LAST-MODIFIED:20250610T142835Z
UID:9091-1750514400-1750525200@morrismnchamber.org
SUMMARY:Morris Pride
DESCRIPTION:Saturday\, June 21st from 2PM-5PM at Eastside Park in Morris\, MN.\nFor full details: https://linktr.ee/QueerMorris\nThe focus of this event is to create a safe space for queer people in Morris to come together\, be creative\, connect across the community\, and celebrate queerness in Morris. Anyone who would like to create supportive space for queer people and celebrate queerness in Morris is welcome to attend this free community gathering!\nThis event is a casual\, open structured gathering. There is no strict time table\, and you may participate in any activities at your own pace.\nWe will have craft supplies\, yard games\, conversation starters\, a photo booth\, and a Sharing Space/Open Mic for you to enjoy with new & old friends.\nFrom 3PM – 4:30PM there will be a Sharing Space/Open Mic! Folks interested in sharing a poem\, song\, performance (drag!?)\, story\, creation\, or speech will be able to sign up starting at 2PM on June 21st. We suggest about 5 minutes per sign up slot. We will have Pride Committee members emcee-ing\, so reach out with any questions!\nEastside Park has street side parking around the entire perimeter of the park. All parking connects to sidewalks via curb cuts.\nThe Morris Transit will be open from 12PM to 4PM\, and event attendees can call 320-589-1000 to schedule rides to and from Morris Pride free of charge!
URL:https://morrismnchamber.org/community-event/morris-pride/
LOCATION:East Side Park\, Morris\, 52488 180TH STREET\, MORRIS\, MN\, 56267\, United States
CATEGORIES:Community Event
ATTACH;FMTTYPE=image/jpeg:https://morrismnchamber.org/wp-content/uploads/2025/06/poster-draft.jpg
ORGANIZER;CN="Morris Pride":MAILTO:queermorris@gmail.com
END:VEVENT
END:VCALENDAR