BEGIN:VCALENDAR
VERSION:2.0
PRODID:-//Morris Area Chamber of Commerce - ECPv6.15.15//NONSGML v1.0//EN
CALSCALE:GREGORIAN
METHOD:PUBLISH
X-WR-CALNAME:Morris Area Chamber of Commerce
X-ORIGINAL-URL:https://morrismnchamber.org
X-WR-CALDESC:Events for Morris Area Chamber of Commerce
REFRESH-INTERVAL;VALUE=DURATION:PT1H
X-Robots-Tag:noindex
X-PUBLISHED-TTL:PT1H
BEGIN:VTIMEZONE
TZID:America/Chicago
BEGIN:DAYLIGHT
TZOFFSETFROM:-0600
TZOFFSETTO:-0500
TZNAME:CDT
DTSTART:20240310T080000
END:DAYLIGHT
BEGIN:STANDARD
TZOFFSETFROM:-0500
TZOFFSETTO:-0600
TZNAME:CST
DTSTART:20241103T070000
END:STANDARD
BEGIN:DAYLIGHT
TZOFFSETFROM:-0600
TZOFFSETTO:-0500
TZNAME:CDT
DTSTART:20250309T080000
END:DAYLIGHT
BEGIN:STANDARD
TZOFFSETFROM:-0500
TZOFFSETTO:-0600
TZNAME:CST
DTSTART:20251102T070000
END:STANDARD
BEGIN:DAYLIGHT
TZOFFSETFROM:-0600
TZOFFSETTO:-0500
TZNAME:CDT
DTSTART:20260308T080000
END:DAYLIGHT
BEGIN:STANDARD
TZOFFSETFROM:-0500
TZOFFSETTO:-0600
TZNAME:CST
DTSTART:20261101T070000
END:STANDARD
END:VTIMEZONE
BEGIN:VEVENT
DTSTART;TZID=America/Chicago:20250814T160000
DTEND;TZID=America/Chicago:20250814T190000
DTSTAMP:20260419T170238
CREATED:20250721T163952Z
LAST-MODIFIED:20250721T163952Z
UID:9230-1755187200-1755198000@morrismnchamber.org
SUMMARY:Pomme De Terre River Association River Run
DESCRIPTION:Free event aimed to get folks outside and familiar with the Pomme de Terre River. Boats and lifejackets will be provided\, as well as a free meal at the conclusion of the paddle. Registration IS required. More info: https://www.pdtriver.org/2025-river-run/
URL:https://morrismnchamber.org/community-event/pomme-de-terre-river-association-river-run/
LOCATION:Pomme de Terre Park\, Morris\, 56267
CATEGORIES:Community Event
ORGANIZER;CN="Pomme de Terre River Association":MAILTO:sophia.maruska@pdtriver.org
END:VEVENT
BEGIN:VEVENT
DTSTART;TZID=America/Chicago:20250814T160000
DTEND;TZID=America/Chicago:20250814T190000
DTSTAMP:20260419T170238
CREATED:20250721T165359Z
LAST-MODIFIED:20250721T165359Z
UID:9234-1755187200-1755198000@morrismnchamber.org
SUMMARY:Pomme De Terre River Association River Run
DESCRIPTION:Free community event aimed to get folks outside and on the Pomme de Terre. Kayaks and lifejackets will be provided\, as well as a free meal at the conclusion of the paddle. More info: https://www.pdtriver.org/2025-river-run/
URL:https://morrismnchamber.org/community-event/pomme-de-terre-river-association-river-run-2/
LOCATION:Pomme de Terre Park\, Morris\, 56267
CATEGORIES:Community Event
ATTACH;FMTTYPE=image/png:https://morrismnchamber.org/wp-content/uploads/2025/07/rr-flyer-2025.png
END:VEVENT
BEGIN:VEVENT
DTSTART;TZID=America/Chicago:20250818T173000
DTEND;TZID=America/Chicago:20250818T183000
DTSTAMP:20260419T170238
CREATED:20250806T210307Z
LAST-MODIFIED:20250806T210307Z
UID:9288-1755538200-1755541800@morrismnchamber.org
SUMMARY:Chamber/UMM Welcome Picnic
DESCRIPTION:This is a fun picnic event for new students and staff at the University. Our business community can set up at the Community Expo and let them all know what Morris has to offer. Picnic is open to University Students. Business expo is open to Chamber members and non-members (free for members).
URL:https://morrismnchamber.org/community-event/chamber-umm-welcome-picnic-2/
LOCATION:East Side Park\, Morris\, 52488 180TH STREET\, MORRIS\, MN\, 56267\, United States
ATTACH;FMTTYPE=image/png:https://morrismnchamber.org/wp-content/uploads/2025/05/2025.png
ORGANIZER;CN="Morris Area Chamber of Commerce":MAILTO:morrismnchamber@gmail.com
END:VEVENT
BEGIN:VEVENT
DTSTART;TZID=America/Chicago:20250820T110000
DTEND;TZID=America/Chicago:20250820T130000
DTSTAMP:20260419T170238
CREATED:20250815T160356Z
LAST-MODIFIED:20250815T160356Z
UID:9326-1755687600-1755694800@morrismnchamber.org
SUMMARY:Someplace Safe Morris Thrift Store Anniversary Brat Stand
DESCRIPTION:Join the Someplace Safe Morris Thrift Store for lunch next week for our annual BRAT STAND at Willie’s Supervalu! Grab a brat\, chips and pop/water from 11am to 1pm on Wednesday\, August 20th for a suggested donation of $5.  *Be sure to also stop by the store that day and shop the 42% OFF Storewide Anniversary Sale!*
URL:https://morrismnchamber.org/community-event/someplace-safe-morris-thrift-store-anniversary-brat-stand/
LOCATION:Willie’s SuperValu\, Morris\, MN\, 56267\, United States
ATTACH;FMTTYPE=image/jpeg:https://morrismnchamber.org/wp-content/uploads/2025/08/530608848-1334305641500790-2460824974581048062-n.jpg
ORGANIZER;CN="Someplace Safe":MAILTO:stevens.co@someplacesafe.info
END:VEVENT
BEGIN:VEVENT
DTSTART;TZID=America/Chicago:20250830T130000
DTEND;TZID=America/Chicago:20250830T160000
DTSTAMP:20260419T170238
CREATED:20250807T144643Z
LAST-MODIFIED:20250807T144643Z
UID:9296-1756558800-1756569600@morrismnchamber.org
SUMMARY:Butterfly Tagging
DESCRIPTION:Saturday\, Aug. 30th from 1-4p\nMeet by 1p at the Welcome Center and transportation is provided.
URL:https://morrismnchamber.org/community-event/butterfly-tagging/
LOCATION:MN
ATTACH;FMTTYPE=image/jpeg:https://morrismnchamber.org/wp-content/uploads/2025/08/monarch-butterfly-tagging-2025.jpg
END:VEVENT
END:VCALENDAR