BEGIN:VCALENDAR
VERSION:2.0
PRODID:-//Morris Area Chamber of Commerce - ECPv6.15.15//NONSGML v1.0//EN
CALSCALE:GREGORIAN
METHOD:PUBLISH
X-WR-CALNAME:Morris Area Chamber of Commerce
X-ORIGINAL-URL:https://morrismnchamber.org
X-WR-CALDESC:Events for Morris Area Chamber of Commerce
REFRESH-INTERVAL;VALUE=DURATION:PT1H
X-Robots-Tag:noindex
X-PUBLISHED-TTL:PT1H
BEGIN:VTIMEZONE
TZID:America/Chicago
BEGIN:DAYLIGHT
TZOFFSETFROM:-0600
TZOFFSETTO:-0500
TZNAME:CDT
DTSTART:20240310T080000
END:DAYLIGHT
BEGIN:STANDARD
TZOFFSETFROM:-0500
TZOFFSETTO:-0600
TZNAME:CST
DTSTART:20241103T070000
END:STANDARD
BEGIN:DAYLIGHT
TZOFFSETFROM:-0600
TZOFFSETTO:-0500
TZNAME:CDT
DTSTART:20250309T080000
END:DAYLIGHT
BEGIN:STANDARD
TZOFFSETFROM:-0500
TZOFFSETTO:-0600
TZNAME:CST
DTSTART:20251102T070000
END:STANDARD
BEGIN:DAYLIGHT
TZOFFSETFROM:-0600
TZOFFSETTO:-0500
TZNAME:CDT
DTSTART:20260308T080000
END:DAYLIGHT
BEGIN:STANDARD
TZOFFSETFROM:-0500
TZOFFSETTO:-0600
TZNAME:CST
DTSTART:20261101T070000
END:STANDARD
END:VTIMEZONE
BEGIN:VEVENT
DTSTART;TZID=America/Chicago:20250901T130000
DTEND;TZID=America/Chicago:20250901T170000
DTSTAMP:20260419T152813
CREATED:20250820T143055Z
LAST-MODIFIED:20250820T143100Z
UID:9342-1756731600-1756746000@morrismnchamber.org
SUMMARY:Fall Day of Service
DESCRIPTION:Come join us on Labor Day to give back to the community. Make your day off a day on and make a difference in the local community through service.  \nHelp in the Stevens County Community Garden. \nHelp SWELL (Scandia Woods Environmental Learning Lab) cut branches and clear brushes for outdoor learning spaces. \nHelp Someplace Safe Thrift Store with donations sorting\, cleaning and more. \nHelp If Wishes Were Horse with barn/stable cleaning and misc tasks.  \nEnd the day with reflection and a nacho bar.
URL:https://morrismnchamber.org/community-event/fall-day-of-service-2/
LOCATION:MN
CATEGORIES:Community Event
ATTACH;FMTTYPE=image/jpeg:https://morrismnchamber.org/wp-content/uploads/2025/08/img-6700.jpg
END:VEVENT
BEGIN:VEVENT
DTSTART;VALUE=DATE:20250906
DTEND;VALUE=DATE:20250908
DTSTAMP:20260419T152813
CREATED:20250827T170516Z
LAST-MODIFIED:20250827T170516Z
UID:9370-1757116800-1757289599@morrismnchamber.org
SUMMARY:4th Annual Rocket Donkey Circuit Series
DESCRIPTION:Please preregister or comment if you will be attending. If I don’t have enough competitors It is not feasible to to hold a jackpot race if I can’t cover the arena usage\, insurance and the added money. If you know anyone that wants to come out and ride or exhibition. Please let me know. The race starts at 6. Exhibitions are from 430-545.
URL:https://morrismnchamber.org/community-event/4th-annual-rocket-donkey-circuit-series/
LOCATION:Grant 4H Grounds\, 517 Flynn Dr\, MIlbank\, SD\, 57252\, United States
ATTACH;FMTTYPE=image/png:https://morrismnchamber.org/wp-content/uploads/2025/08/1000005002.png
END:VEVENT
BEGIN:VEVENT
DTSTART;TZID=America/Chicago:20250913T130000
DTEND;TZID=America/Chicago:20250913T160000
DTSTAMP:20260419T152813
CREATED:20250811T170525Z
LAST-MODIFIED:20250811T170525Z
UID:9314-1757768400-1757779200@morrismnchamber.org
SUMMARY:Fall Park Clean Up
DESCRIPTION:Morris City Parks Clean Up\nSaturday\, Sept. 13th (Sunday the 14th would be a rain date).\n1-4p\nMeet at the Welcome Center at the University
URL:https://morrismnchamber.org/community-event/fall-park-clean-up/
LOCATION:University of Minnesota Morris\, 600 E 4th St\, Morris\, MN\, 56267
ATTACH;FMTTYPE=image/jpeg:https://morrismnchamber.org/wp-content/uploads/2025/08/park-clean-up-fall-2025-1.jpg
END:VEVENT
BEGIN:VEVENT
DTSTART;TZID=America/Chicago:20250920T130000
DTEND;TZID=America/Chicago:20250920T160000
DTSTAMP:20260419T152813
CREATED:20250820T143033Z
LAST-MODIFIED:20250820T143033Z
UID:9337-1758373200-1758384000@morrismnchamber.org
SUMMARY:Humane Society Clean Up
DESCRIPTION:Stevens Community Humane Society needs our help to ensure a clean and safe space for animals awaiting their new homes. Spend an afternoon doing a deep cleaning of the facility followed but some time showing love on the animals. Meet at the Welcome Center at the University for transportation at 1pm.
URL:https://morrismnchamber.org/community-event/humane-society-clean-up-2/
LOCATION:Humane Society\, 820 W. 5th Street\, Morris\, 56267
CATEGORIES:Community Event
ATTACH;FMTTYPE=image/png:https://morrismnchamber.org/wp-content/uploads/2025/08/humane-society.png
END:VEVENT
BEGIN:VEVENT
DTSTART;TZID=America/Chicago:20250928T140000
DTEND;TZID=America/Chicago:20250928T200000
DTSTAMP:20260419T152813
CREATED:20250911T150816Z
LAST-MODIFIED:20250911T150816Z
UID:9433-1759068000-1759089600@morrismnchamber.org
SUMMARY:Sept Community Meal - Prep
DESCRIPTION:Morris Community Meal is a community-building program aimed at encouraging connection around food. Anyone can help plan\, cook\, serve\, or enjoy a community meal. Community businesses\, organizations\, farmers\, and faith communities fund and provide space for the meal. Students and community members work alongside one another and eat together.  \nCome on Sunday to help prepare the Community Meal for Monday!
URL:https://morrismnchamber.org/community-event/sept-community-meal-prep/
LOCATION:First Lutheran Church\, 200 E 5th Street\, Morris\, 56267
CATEGORIES:Community Event
ATTACH;FMTTYPE=image/jpeg:https://morrismnchamber.org/wp-content/uploads/2025/09/dsc-3399.jpg
END:VEVENT
BEGIN:VEVENT
DTSTART;TZID=America/Chicago:20250929T173000
DTEND;TZID=America/Chicago:20250929T193000
DTSTAMP:20260419T152813
CREATED:20250911T150718Z
LAST-MODIFIED:20250911T150718Z
UID:9427-1759167000-1759174200@morrismnchamber.org
SUMMARY:September Community Meal
DESCRIPTION:Morris Community Meal is a community-building program aimed at encouraging connection around food. Anyone can help plan\, cook\, serve\, or enjoy a community meal. Community businesses\, organizations\, farmers\, and faith communities fund and provide space for the meal. Students and community members work alongside one another and eat together.
URL:https://morrismnchamber.org/community-event/september-community-meal/
LOCATION:First Lutheran Church\, Morris\, 200 E 5th Street\, Morris\, 56267
CATEGORIES:Community Event
ATTACH;FMTTYPE=image/jpeg:https://morrismnchamber.org/wp-content/uploads/2025/09/img-6220.jpg
END:VEVENT
END:VCALENDAR